BEGIN:VCALENDAR
VERSION:2.0
PRODID:-//Chicago Estonian House - ECPv6.15.20//NONSGML v1.0//EN
CALSCALE:GREGORIAN
METHOD:PUBLISH
X-ORIGINAL-URL:https://chicagoeestimaja.com
X-WR-CALDESC:Events for Chicago Estonian House
REFRESH-INTERVAL;VALUE=DURATION:PT1H
X-Robots-Tag:noindex
X-PUBLISHED-TTL:PT1H
BEGIN:VTIMEZONE
TZID:America/Chicago
BEGIN:DAYLIGHT
TZOFFSETFROM:-0600
TZOFFSETTO:-0500
TZNAME:CDT
DTSTART:20190310T080000
END:DAYLIGHT
BEGIN:STANDARD
TZOFFSETFROM:-0500
TZOFFSETTO:-0600
TZNAME:CST
DTSTART:20191103T070000
END:STANDARD
BEGIN:DAYLIGHT
TZOFFSETFROM:-0600
TZOFFSETTO:-0500
TZNAME:CDT
DTSTART:20200308T080000
END:DAYLIGHT
BEGIN:STANDARD
TZOFFSETFROM:-0500
TZOFFSETTO:-0600
TZNAME:CST
DTSTART:20201101T070000
END:STANDARD
BEGIN:DAYLIGHT
TZOFFSETFROM:-0600
TZOFFSETTO:-0500
TZNAME:CDT
DTSTART:20210314T080000
END:DAYLIGHT
BEGIN:STANDARD
TZOFFSETFROM:-0500
TZOFFSETTO:-0600
TZNAME:CST
DTSTART:20211107T070000
END:STANDARD
END:VTIMEZONE
BEGIN:VEVENT
DTSTART;TZID=America/Chicago:20200913T101500
DTEND;TZID=America/Chicago:20200913T130000
DTSTAMP:20260419T164835
CREATED:20200825T161422Z
LAST-MODIFIED:20200825T163435Z
UID:1705-1599992100-1600002000@chicagoeestimaja.com
SUMMARY:Estonian School - Eesti Kool
DESCRIPTION:Terves kehas terve vaim! Spordipäev. \nHealthy body\, healthy mind! Field day.
URL:https://chicagoeestimaja.com/event/kool-2020-09-13/
LOCATION:Chicago Eesti Maja\, 14700 Estonian Ln\, Riverwoods\, IL\, 60015\, United States
CATEGORIES:School
ORGANIZER;CN="Chicago Eesti Kool":MAILTO:kool@eestimaja.com
END:VEVENT
BEGIN:VEVENT
DTSTART;TZID=America/Chicago:20200913T113000
DTEND;TZID=America/Chicago:20200913T123000
DTSTAMP:20260419T164835
CREATED:20200219T195140Z
LAST-MODIFIED:20200219T195140Z
UID:1447-1599996600-1600000200@chicagoeestimaja.com
SUMMARY:The First Estonian Evangelical Church of Chicago Worship Service
DESCRIPTION:Kodumaalt lahkumine (Emigrating from Estonia) \nEELK Chicago Esimese Koguduse jumalateenistus armulauaga. Teenib diakonõpetaja Gilda Karu (847-577-1337 või abistaja@yahoo.com) Kõik on teretulnud! \nThe First Estonian Evangelical Church of Chicago worship service with Holy Communion. Deacon Pastor Gilda Karu officiating (847-577-1337 or abistaja@yahoo.com). All are welcome.
URL:https://chicagoeestimaja.com/event/the-first-estonian-evangelical-church-of-chicago-worship-service-5/
LOCATION:Chicago Eesti Maja\, 14700 Estonian Ln\, Riverwoods\, IL\, 60015\, United States
CATEGORIES:Religion
ORGANIZER;CN="EELK Chicago Esimese Koguduse":MAILTO:abistaja@yahoo.com
END:VEVENT
BEGIN:VEVENT
DTSTART;TZID=America/Chicago:20200913T130000
DTEND;TZID=America/Chicago:20200913T140000
DTSTAMP:20260419T164835
CREATED:20200916T154329Z
LAST-MODIFIED:20200916T154329Z
UID:1725-1600002000-1600005600@chicagoeestimaja.com
SUMMARY:Sunday Lunch
DESCRIPTION:Sunday September 13 lunch will be a served at 1.00 pm. Helbe and helpers in the kitchen. Meatball soup\, minced meat gravy with potatoes and salad are on the menu\, coffee and cake for dessert. All are welcome and all remember all Covid 19 rules while in the building!\n\n\n\n\n\n\n\n\n\n\n\n\nPühapaeval 13. Septembril lõunasöök kell 1.00 pl. Köögis Helbe ja abilised ning menüüs frikadellisupp\, hakkliha kaste\, kartuli ja salatiga ning magustoiduks kohv ja kook.Kõik on the teretulnud aga palun meeles pidada kõiki Covid 19 reegleid!\n\n\n\n 
URL:https://chicagoeestimaja.com/event/sunday-lunch/
LOCATION:Chicago Eesti Maja\, 14700 Estonian Ln\, Riverwoods\, IL\, 60015\, United States
ORGANIZER;CN="Chicago Eesti Maja":MAILTO:president@eestimaja.com
END:VEVENT
BEGIN:VEVENT
DTSTART;TZID=America/Chicago:20200920T093000
DTEND;TZID=America/Chicago:20200920T110000
DTSTAMP:20260419T164835
CREATED:20200225T185444Z
LAST-MODIFIED:20200825T185642Z
UID:1520-1600594200-1600599600@chicagoeestimaja.com
SUMMARY:Nõukogu Koosolek / Board of Directors Meeting
DESCRIPTION:Monthly Board Meeting. Please send any concerns or questions to Eesti Maja President
URL:https://chicagoeestimaja.com/event/2020-9-6_noukogu/
LOCATION:Chicago Eesti Maja\, 14700 Estonian Ln\, Riverwoods\, IL\, 60015\, United States
CATEGORIES:administration
ORGANIZER;CN="Chicago Eesti Maja":MAILTO:president@eestimaja.com
END:VEVENT
BEGIN:VEVENT
DTSTART;TZID=America/Chicago:20200920T100000
DTEND;TZID=America/Chicago:20200920T130000
DTSTAMP:20260419T164835
CREATED:20200829T033440Z
LAST-MODIFIED:20200829T033440Z
UID:1717-1600596000-1600606800@chicagoeestimaja.com
SUMMARY:Liikmette Koosolek - Membership Meeting
DESCRIPTION:Since the Annual meeting of the Chicago Estonian House members was cancelled in March due to the Corona Virus\, the Chicago Estonian House Board of Directors has decided to have an all members’ meeting on Sunday\, September 20\, 2020 at 10:00 am at the Estonian House to discuss the state of the organization and what has transpired over the last six months. \n We are inviting all members to attend. The Agenda is: \n\nCall to order\nMeeting organization:\n\nElection of 3 vote counters\nElection of Meeting Chairman\nElection of Meeting Secretary\n\n\nPresentation and approval of last years’ annual meeting minutes\n2020 Activity and Construction Report presentation\n2020 Budget/Actual presentation\nNew Business\nDiscussions\n\nThe official invitation has been mailed to each member at the address we have on file. \n\nChicago Eesti Maja Nõukogu otsusel toimub Chicago Eesti Maja Liikmette Koosolek pühapäeval\, 20. Septemberil 2020. a.\, kell 10.00 e.l. Eesti Majas\, millest palutakse teie osavõttu. Päevakord on: \n\nKoosoleku avamine\nKoosoleku rakendamine:\n\n3 häältelugeja valimine\nKoosoleku juhataja valimine\nKoosoleku protokollija valimine\n\n\nEelmise aasta peakoosoleku protokolli ette lugemine ja kinnitamine\na. üld- ja ehitustegevuse aruanne estitamine\na. eelarve ja rahalise aruannde esitamine\nÜles tõstetud küsimused\, mida võiks otsustada\nLäbirääkimised\n\nAmetlik kutse oli saadetud kirja teel.
URL:https://chicagoeestimaja.com/event/liikmette-koosolek-membership-meeting/
LOCATION:Chicago Eesti Maja\, 14700 Estonian Ln\, Riverwoods\, IL\, 60015\, United States
CATEGORIES:administration
ORGANIZER;CN="Chicago Eesti Maja":MAILTO:president@eestimaja.com
END:VEVENT
BEGIN:VEVENT
DTSTART;TZID=America/Chicago:20200920T130000
DTEND;TZID=America/Chicago:20200920T140000
DTSTAMP:20260419T164835
CREATED:20200825T190418Z
LAST-MODIFIED:20200825T191025Z
UID:1710-1600606800-1600610400@chicagoeestimaja.com
SUMMARY:End of Summer Picnic - Suvelõppu Piknik
DESCRIPTION:The Board of Directors is hosting their annual end-of-summer picnic at the Estonian House. All are welcome. Free.
URL:https://chicagoeestimaja.com/event/end-of-summer-picnic-suveloppu-piknik/
LOCATION:Chicago Eesti Maja\, 14700 Estonian Ln\, Riverwoods\, IL\, 60015\, United States
CATEGORIES:Food
ORGANIZER;CN="Chicago Eesti Maja":MAILTO:president@eestimaja.com
END:VEVENT
BEGIN:VEVENT
DTSTART;TZID=America/Chicago:20200927T101500
DTEND;TZID=America/Chicago:20200927T130000
DTSTAMP:20260419T164835
CREATED:20200916T155827Z
LAST-MODIFIED:20200916T155827Z
UID:1727-1601201700-1601211600@chicagoeestimaja.com
SUMMARY:Estonian School / Eesti Kool
DESCRIPTION:On maailm iluline\, inimene imeline! Memme-taadi päev. \n \nThe world is beautiful\, people are wonderful! Grandparents day. \nPlease check to confirm if the lessons will be in person or on-line. \n 
URL:https://chicagoeestimaja.com/event/eesti-kool-9-27-2020/
LOCATION:Chicago Eesti Maja\, 14700 Estonian Ln\, Riverwoods\, IL\, 60015\, United States
CATEGORIES:School
ORGANIZER;CN="Chicago Eesti Kool":MAILTO:kool@eestimaja.com
END:VEVENT
BEGIN:VEVENT
DTSTART;TZID=America/Chicago:20200927T130000
DTEND;TZID=America/Chicago:20200927T140000
DTSTAMP:20260419T164835
CREATED:20200925T162807Z
LAST-MODIFIED:20200925T162807Z
UID:1752-1601211600-1601215200@chicagoeestimaja.com
SUMMARY:Sunday Lunch
DESCRIPTION:Pühapaeval 27 Septembril tähistame Eesti keele nädalat ning lõunasöögiks traditsioonilised Eesti toidud. Köögis on Helbe abilistega ning menüüs on Ühepajatoit\, supp\, magustoiduks mannavaht ja kama. Kell 1.00 pl ja kõik on teretulnud $12.00\n\n\n\n \nOn Sunday September 27 we are celebrating worldwide Estonian learning week and traditional Estonian foods will be served for lunch. Helbe is in the kitchen with helpers and making vegetable stew and soup. Semolina mousse and kama for dessert. Lunch is at 1.00 pm and all are welcome! $12.00
URL:https://chicagoeestimaja.com/event/sunday-lunch-9-27-2020/
LOCATION:Chicago Eesti Maja\, 14700 Estonian Ln\, Riverwoods\, IL\, 60015\, United States
CATEGORIES:Food
ORGANIZER;CN="Chicago Eesti Kool":MAILTO:kool@eestimaja.com
END:VEVENT
END:VCALENDAR