BEGIN:VCALENDAR
VERSION:2.0
PRODID:-//Chicago Estonian House - ECPv6.15.20//NONSGML v1.0//EN
CALSCALE:GREGORIAN
METHOD:PUBLISH
X-ORIGINAL-URL:https://chicagoeestimaja.com
X-WR-CALDESC:Events for Chicago Estonian House
REFRESH-INTERVAL;VALUE=DURATION:PT1H
X-Robots-Tag:noindex
X-PUBLISHED-TTL:PT1H
BEGIN:VTIMEZONE
TZID:America/Chicago
BEGIN:DAYLIGHT
TZOFFSETFROM:-0600
TZOFFSETTO:-0500
TZNAME:CDT
DTSTART:20190310T080000
END:DAYLIGHT
BEGIN:STANDARD
TZOFFSETFROM:-0500
TZOFFSETTO:-0600
TZNAME:CST
DTSTART:20191103T070000
END:STANDARD
BEGIN:DAYLIGHT
TZOFFSETFROM:-0600
TZOFFSETTO:-0500
TZNAME:CDT
DTSTART:20200308T080000
END:DAYLIGHT
BEGIN:STANDARD
TZOFFSETFROM:-0500
TZOFFSETTO:-0600
TZNAME:CST
DTSTART:20201101T070000
END:STANDARD
BEGIN:DAYLIGHT
TZOFFSETFROM:-0600
TZOFFSETTO:-0500
TZNAME:CDT
DTSTART:20210314T080000
END:DAYLIGHT
BEGIN:STANDARD
TZOFFSETFROM:-0500
TZOFFSETTO:-0600
TZNAME:CST
DTSTART:20211107T070000
END:STANDARD
END:VTIMEZONE
BEGIN:VEVENT
DTSTART;TZID=America/Chicago:20201003T170000
DTEND;TZID=America/Chicago:20201004T000000
DTSTAMP:20260419T150539
CREATED:20200925T163334Z
LAST-MODIFIED:20200925T163435Z
UID:1755-1601744400-1601769600@chicagoeestimaja.com
SUMMARY:Estoberfest 2020
DESCRIPTION:Pidu toimub välitelgis algusega kell 17.00! Traditsioonilised Estoberfesti toidud\,vaadiõlu ja muusika. Kõik on teretulnud! Pilet koos söögiga $20. \n\nThe event will be hosted in our outdoor tent starting at 5.00 pm. Traditional Estoberfest food will be served\, keg beer\, music. All are welcome! Admission is $20 and includes food.
URL:https://chicagoeestimaja.com/event/estoberfest-2020/
LOCATION:Chicago Eesti Maja\, 14700 Estonian Ln\, Riverwoods\, IL\, 60015\, United States
CATEGORIES:Food,Music
ORGANIZER;CN="Chicago Eesti Maja":MAILTO:president@eestimaja.com
END:VEVENT
BEGIN:VEVENT
DTSTART;TZID=America/Chicago:20201004T093000
DTEND;TZID=America/Chicago:20201004T110000
DTSTAMP:20260419T150539
CREATED:20200225T185744Z
LAST-MODIFIED:20200225T185811Z
UID:1522-1601803800-1601809200@chicagoeestimaja.com
SUMMARY:Nõukogu Koosolek / Board of Directors Meeting
DESCRIPTION:Monthly Board Meeting. Please send any concerns or questions to Eesti Maja President
URL:https://chicagoeestimaja.com/event/2020-10-4_noukogu/
LOCATION:Chicago Eesti Maja\, 14700 Estonian Ln\, Riverwoods\, IL\, 60015\, United States
CATEGORIES:administration
ORGANIZER;CN="Chicago Eesti Maja":MAILTO:president@eestimaja.com
END:VEVENT
BEGIN:VEVENT
DTSTART;TZID=America/Chicago:20201004T101500
DTEND;TZID=America/Chicago:20201004T130000
DTSTAMP:20260419T150539
CREATED:20200916T160109Z
LAST-MODIFIED:20200916T160109Z
UID:1739-1601806500-1601816400@chicagoeestimaja.com
SUMMARY:Estonian School / Eesti Kool
DESCRIPTION:Leib on vanem kui meie! (tervislik toitumine) Kooli 12.a. Tähistamine + ôpetajatepäev. \n \nBread is older than us! (Healthy eating). Celebration of the school’s 12th anniversary and teacher appreciation day.
URL:https://chicagoeestimaja.com/event/estonian-school-eesti-kool/
LOCATION:Chicago Eesti Maja\, 14700 Estonian Ln\, Riverwoods\, IL\, 60015\, United States
CATEGORIES:School
ORGANIZER;CN="Chicago Eesti Kool":MAILTO:kool@eestimaja.com
END:VEVENT
BEGIN:VEVENT
DTSTART;TZID=America/Chicago:20201004T130000
DTEND;TZID=America/Chicago:20201004T140000
DTSTAMP:20260419T150539
CREATED:20201002T223748Z
LAST-MODIFIED:20201003T205636Z
UID:1759-1601816400-1601820000@chicagoeestimaja.com
SUMMARY:Sunday Lunch
DESCRIPTION:Pühapaeval 4 Oktoobril lõunasöök kell 13 00.Köögis Helbe ja abilised ning menüüs rassolnik supp\, ühepajatoit\, magustoiduks kohv ja koogid – $12\n\n\n\nSunday October 4 lunch at 1.00 pm. Helbe and helpers in the kitchen and rassolnik soup\, vegetable stew are on the menu\, coffee and cakes for dessert – $12.
URL:https://chicagoeestimaja.com/event/sunday-lunch-2/
LOCATION:Chicago Eesti Maja\, 14700 Estonian Ln\, Riverwoods\, IL\, 60015\, United States
CATEGORIES:Food
ORGANIZER;CN="Chicago Eesti Maja":MAILTO:president@eestimaja.com
END:VEVENT
BEGIN:VEVENT
DTSTART;TZID=America/Chicago:20201011T113000
DTEND;TZID=America/Chicago:20201011T123000
DTSTAMP:20260419T150539
CREATED:20200219T195316Z
LAST-MODIFIED:20200219T195316Z
UID:1449-1602415800-1602419400@chicagoeestimaja.com
SUMMARY:The First Estonian Evangelical Church of Chicago Worship Service
DESCRIPTION:Lõikustänupüha (Celebration of the Harvest) \nEELK Chicago Esimese Koguduse jumalateenistus armulauaga. Teenib diakonõpetaja Gilda Karu (847-577-1337 või abistaja@yahoo.com) Kõik on teretulnud! \nThe First Estonian Evangelical Church of Chicago worship service with Holy Communion. Deacon Pastor Gilda Karu officiating (847-577-1337 or abistaja@yahoo.com). All are welcome.
URL:https://chicagoeestimaja.com/event/the-first-estonian-evangelical-church-of-chicago-worship-service-6/
LOCATION:Chicago Eesti Maja\, 14700 Estonian Ln\, Riverwoods\, IL\, 60015\, United States
CATEGORIES:Religion
ORGANIZER;CN="EELK Chicago Esimese Koguduse":MAILTO:abistaja@yahoo.com
END:VEVENT
BEGIN:VEVENT
DTSTART;TZID=America/Chicago:20201011T130000
DTEND;TZID=America/Chicago:20201011T140000
DTSTAMP:20260419T150539
CREATED:20201002T223845Z
LAST-MODIFIED:20201002T224133Z
UID:1761-1602421200-1602424800@chicagoeestimaja.com
SUMMARY:Sunday Lunch
DESCRIPTION:Join us for lunch on Sunday @ the Estonian House! Check our Facebook page to see if we have had to cancel lunch due to the Corona Virus pandemic. \n\nTule pühapäeva lõunaks Eesti majja! Vaadake meie Facebooki lehelt\, kas oleme pidanud Corona viiruse pandeemia tõttu lõunasöögi ära jätma.
URL:https://chicagoeestimaja.com/event/sunday-lunch-3/
LOCATION:Chicago Eesti Maja\, 14700 Estonian Ln\, Riverwoods\, IL\, 60015\, United States
CATEGORIES:Food
ORGANIZER;CN="Chicago Eesti Maja":MAILTO:president@eestimaja.com
END:VEVENT
BEGIN:VEVENT
DTSTART;TZID=America/Chicago:20201018T101500
DTEND;TZID=America/Chicago:20201018T130000
DTSTAMP:20260419T150539
CREATED:20200916T160320Z
LAST-MODIFIED:20200916T160320Z
UID:1741-1603016100-1603026000@chicagoeestimaja.com
SUMMARY:Estonian School / Eesti Kool
DESCRIPTION:Lugusid loomadest ja lindudest. \n \nStories of animals and birds.
URL:https://chicagoeestimaja.com/event/eesti-kool-10-19-2020/
LOCATION:Chicago Eesti Maja\, 14700 Estonian Ln\, Riverwoods\, IL\, 60015\, United States
CATEGORIES:School
ORGANIZER;CN="Chicago Eesti Kool":MAILTO:kool@eestimaja.com
END:VEVENT
BEGIN:VEVENT
DTSTART;TZID=America/Chicago:20201018T130000
DTEND;TZID=America/Chicago:20201018T140000
DTSTAMP:20260419T150539
CREATED:20201002T223933Z
LAST-MODIFIED:20201017T034250Z
UID:1763-1603026000-1603029600@chicagoeestimaja.com
SUMMARY:Sunday Lunch
DESCRIPTION:Pühapaeval 18 Oktoobril lõunasöök kell 1.00 pl. Köögis Helina ja Eveli ning menüüs oa-singisupp\, pikk poiss\, kartuli ja salatiga ning magustoiduks kohv ja koogid – $12 \n\nSunday October 18 lunch at 1.00 pm. Helina and Eveli in the kitchen. Menu is ham and bean soup\, meatloaf with potatoes and salad\, coffee and cakes for dessert – $12.
URL:https://chicagoeestimaja.com/event/sunday-lunch-4/
LOCATION:Chicago Eesti Maja\, 14700 Estonian Ln\, Riverwoods\, IL\, 60015\, United States
CATEGORIES:Food
ORGANIZER;CN="Chicago Eesti Maja":MAILTO:president@eestimaja.com
END:VEVENT
BEGIN:VEVENT
DTSTART;TZID=America/Chicago:20201025T130000
DTEND;TZID=America/Chicago:20201025T140000
DTSTAMP:20260419T150539
CREATED:20201002T224026Z
LAST-MODIFIED:20201002T224026Z
UID:1765-1603630800-1603634400@chicagoeestimaja.com
SUMMARY:Sunday Lunch
DESCRIPTION:Join us for lunch on Sunday @ the Estonian House! Check our Facebook page to see if we have had to cancel lunch due to the Corona Virus pandemic. \n\nTule pühapäeva lõunaks Eesti majja! Vaadake meie Facebooki lehelt\, kas oleme pidanud Corona viiruse pandeemia tõttu lõunasöögi ära jätma.
URL:https://chicagoeestimaja.com/event/sunday-lunch-5/
LOCATION:Chicago Eesti Maja\, 14700 Estonian Ln\, Riverwoods\, IL\, 60015\, United States
CATEGORIES:Food
ORGANIZER;CN="Chicago Eesti Maja":MAILTO:president@eestimaja.com
END:VEVENT
BEGIN:VEVENT
DTSTART;TZID=America/Chicago:20201031T110000
DTEND;TZID=America/Chicago:20201031T140000
DTSTAMP:20260419T150539
CREATED:20201022T005109Z
LAST-MODIFIED:20201022T005109Z
UID:1783-1604142000-1604152800@chicagoeestimaja.com
SUMMARY:CEM Talgud — Fall Cleanup Day
DESCRIPTION:🎃Plaanis välitood(vihma korral sisetööd). Võta kaasa hea tuju\, võimaluse korral reha\, kindad või muu tööriist (näiteks lehepuhuja) Talgulistele saun ja söök peale tööpäeva tasuta. \n\n\n🎃Join as for fall work day outside. Free sauna and meal after work.
URL:https://chicagoeestimaja.com/event/cem-talgud-fall-cleanup-day/
LOCATION:Chicago Eesti Maja\, 14700 Estonian Ln\, Riverwoods\, IL\, 60015\, United States
CATEGORIES:administration,Food
ORGANIZER;CN="Chicago Eesti Maja":MAILTO:president@eestimaja.com
END:VEVENT
END:VCALENDAR